BEGIN:VCALENDAR
VERSION:2.0
PRODID:-//Les Amis du Vieil Allanche - ECPv5.16.4//NONSGML v1.0//EN
CALSCALE:GREGORIAN
METHOD:PUBLISH
X-WR-CALNAME:Les Amis du Vieil Allanche
X-ORIGINAL-URL:https://www.lesamisduvieilallanche.fr
X-WR-CALDESC:évènements pour Les Amis du Vieil Allanche
BEGIN:VTIMEZONE
TZID:Europe/Paris
BEGIN:DAYLIGHT
TZOFFSETFROM:+0100
TZOFFSETTO:+0200
TZNAME:CEST
DTSTART:20260329T010000
END:DAYLIGHT
BEGIN:STANDARD
TZOFFSETFROM:+0200
TZOFFSETTO:+0100
TZNAME:CET
DTSTART:20261025T010000
END:STANDARD
END:VTIMEZONE
BEGIN:VEVENT
DTSTART;TZID=Europe/Paris:20260704T153000
DTEND;TZID=Europe/Paris:20260704T190000
DTSTAMP:20260421T155801
CREATED:20260420T134523Z
LAST-MODIFIED:20260420T135316Z
UID:7288-1783179000-1783191600@www.lesamisduvieilallanche.fr
SUMMARY:Rencontre des Amis du Vieil Allanche - 2026
DESCRIPTION:[vc_row][vc_column width= »3/4″][vc_empty_space height= »20px »][vc_column_text css= ».vc_custom_1776693138794{padding-bottom: 20px !important;} »]Les Amis du Vieil Allanche ont le plaisir de vous convier à Allanche pour leur Journée-Rencontre annuelle avec au programme : \n\n15 h 30 Salle Maurice Jalenques : Conférence sur le thème :« Le Cézallier : Un volcan plus complexe qu’on l’a cru longtemps… ».\n\nC’est un grand plateau basaltique mais aussi un strato-volcan\, des cratères d’explosions\, des cônes stromboliens\, des lacs de laves\, des tourbières d’origine glaciaire… C’est aussi le plus jeune volcan de France métropolitaine. La conférence est donnée par Étienne Barthélémy : diplômé en géographie et géologie (Université de Clermont-Ferrand). Cantalien de souche\, amoureux de son territoire\, et surtout prêt à partager son attachement et ses connaissances sur le Cantal ; il fait partie des « greeters » (ambassadeurs) du Cantal depuis 2014. \n\n17h 30 sous le Marché Couvert : présentation avec dédicaces du Cahier n°19 (2026) des Amis du Vieil Allanche : « Cézallier\, ceux d’en haut »\n\nSur les thèmes : Éditorial : « Cézallier\, ceux d’en haut » par Christian Baillargeat-Delbos ; Paysans des montagnes évocations\, échos\, résonnances du Moyen Âge à 1914 par Jean-Marc Moriceau ; Devenir Cantalien par François Cassingena-Trevedy ; Le 139e RI d’Aurillac\, le régiment du Cantal par Philippe Glaize ; Jean Crouzy (1773-1852) de Ségur\, un sabre\, une mairie\, une vie par Christian Baillargeat-Delbos ; Protéger et développer : quand les La Rochefoucauld régnaient sur le Cézallier par Jean-Charles Daumy ; La famille Gallimard et Allanche (1711-1911) par David Vinatier ; L’étonnant train routier de la famille Fournier par Pierre Kaiser ; L’aviateur Antoine Pissavy par Josette Alliot ; Les cimetières d’Allanche\, des jardins de mémoire par Jean-Bernard Béland ; Sur les pas des enfants juifs cachés à Allanche de 1942 à 1945 par Philippe Glaize ; Anna Traube\, évadée du Vel’ d’Hiv ; Allanchoise de 1948 à 1952 par Jean-Bernard Béland. \nLa manifestation sera suivie d’un vin d’honneur offert par la Municipalité d’Allanche.[/vc_column_text][vc_empty_space height= »10px »][vc_column_text css= ».vc_custom_1776692687072{margin-top: -10px !important;padding-bottom: 20px !important;} »] \nLe cahier N°19 ne sera disponible qu’à partir du 4 juillet 2026 \n[/vc_column_text][/vc_column][vc_column width= »1/4″][/vc_column][/vc_row]
URL:https://www.lesamisduvieilallanche.fr/evenement/rencontre-des-amis-du-vieil-allanche-2026/
LOCATION:Les Amis du Vieil Allanche\, Place du Marché\, Allanche\, 15160
CATEGORIES:AVA
ATTACH;FMTTYPE=image/jpeg:https://www.lesamisduvieilallanche.fr/wp-content/uploads/2025/07/LAVA-cahier18_juillet202509-2025.jpg
ORGANIZER;CN="Les%20amis%20du%20vieil%20Allanche":MAILTO:lesamisduvieilallanche@gmail.com
END:VEVENT
END:VCALENDAR