BEGIN:VCALENDAR
VERSION:2.0
PRODID:-//Les Amis du Vieil Allanche - ECPv5.16.4//NONSGML v1.0//EN
CALSCALE:GREGORIAN
METHOD:PUBLISH
X-WR-CALNAME:Les Amis du Vieil Allanche
X-ORIGINAL-URL:https://www.lesamisduvieilallanche.fr
X-WR-CALDESC:évènements pour Les Amis du Vieil Allanche
BEGIN:VTIMEZONE
TZID:Europe/Paris
BEGIN:DAYLIGHT
TZOFFSETFROM:+0100
TZOFFSETTO:+0200
TZNAME:CEST
DTSTART:20190331T010000
END:DAYLIGHT
BEGIN:STANDARD
TZOFFSETFROM:+0200
TZOFFSETTO:+0100
TZNAME:CET
DTSTART:20191027T010000
END:STANDARD
END:VTIMEZONE
BEGIN:VEVENT
DTSTART;TZID=Europe/Paris:20190706T153000
DTEND;TZID=Europe/Paris:20190706T190000
DTSTAMP:20260424T123204
CREATED:20190115T132316Z
LAST-MODIFIED:20190508T191154Z
UID:3712-1562427000-1562439600@www.lesamisduvieilallanche.fr
SUMMARY:Journée des Amis du Vieil Allanche - 2019
DESCRIPTION:[vc_row][vc_column][vc_column_text css= ».vc_custom_1557342703902{padding-bottom: 20px !important;} »]LES AMIS DU VIEIL ALLANCHE ET L’OFFICE DE TOURISME DU CEZALLIER ont le plaisir de vous convier à ALLANCHE le samedi 6 juillet 2019 à 15h30\, salle Maurice Jalenques de la Maison des services – 15160 Allanche. \nConférence-débat de Marc Prival\, professeur agrégé de géographie et docteur de 3e cycle\, spécialiste des migrations dans le Massif Central\, sur le thème : \n« LE PARAPLUIE CANTALIEN \, fabrication\, colportage\, commerce sédentaire »\n[/vc_column_text][vc_row_inner][vc_column_inner width= »1/2″][/vc_column_inner][vc_column_inner width= »1/2″][/vc_column_inner][/vc_row_inner][vc_empty_space height= »20px »][vc_column_text css= ».vc_custom_1547558461836{padding-bottom: 20px !important;} »]Suivi à 17h30 sous le marché couvert de la présentation avec dédicaces du Cahier n°12 des Amis du Vieil Allanche : \n » Cézallier\, aux portes du temps « \n[/vc_column_text][vc_empty_space height= »20px »][/vc_column][/vc_row]
URL:https://www.lesamisduvieilallanche.fr/evenement/journee-des-amis-du-vieil-allanche-2019/
LOCATION:Les Amis du Vieil Allanche\, Place du Marché\, Allanche\, 15160
CATEGORIES:AVA
ATTACH;FMTTYPE=image/jpeg:https://www.lesamisduvieilallanche.fr/wp-content/uploads/2017/07/DSC_7021.jpg
ORGANIZER;CN="Les%20amis%20du%20vieil%20Allanche":MAILTO:lesamisduvieilallanche@gmail.com
END:VEVENT
END:VCALENDAR