BEGIN:VCALENDAR
VERSION:2.0
PRODID:-//Les Amis du Vieil Allanche - ECPv5.16.4//NONSGML v1.0//EN
CALSCALE:GREGORIAN
METHOD:PUBLISH
X-WR-CALNAME:Les Amis du Vieil Allanche
X-ORIGINAL-URL:https://www.lesamisduvieilallanche.fr
X-WR-CALDESC:évènements pour Les Amis du Vieil Allanche
BEGIN:VTIMEZONE
TZID:Europe/Paris
BEGIN:DAYLIGHT
TZOFFSETFROM:+0100
TZOFFSETTO:+0200
TZNAME:CEST
DTSTART:20250330T010000
END:DAYLIGHT
BEGIN:STANDARD
TZOFFSETFROM:+0200
TZOFFSETTO:+0100
TZNAME:CET
DTSTART:20251026T010000
END:STANDARD
END:VTIMEZONE
BEGIN:VEVENT
DTSTART;VALUE=DATE:20250801
DTEND;VALUE=DATE:20250804
DTSTAMP:20260423T151848
CREATED:20250526T081825Z
LAST-MODIFIED:20250526T081825Z
UID:6960-1754006400-1754265599@www.lesamisduvieilallanche.fr
SUMMARY:Foire à la brocante et aux antiquités - Allanche - 2025 - 49è édition
DESCRIPTION:[vc_row][vc_column width= »2/3″][vc_column_text]49ème Grande foire à la brocante et aux antiquités d’Allanche de renommée nationale\, la plus importante de sa catégorie en Auvergne. Au total\, 120 exposants professionnels et variés. Présence d’un expert. \nChaque année\, un choix harmonieux et divers des exposants\, vise à donner plus de variétés\, de nouveauté\, d’authenticité au profit des visiteurs : art populaire\, bijoux anciens\, meubles et objets de la Haute-Epoque à nous jours\, tableaux et bibelots\, vintage. La présence de l’expert apporte garantie et sécurité aux acheteurs sur les origines et l’authenticité des objets échangés. \nHoraires : de 9h à 19h\nEntrée : 4€ / Gratuit pour les moins de 16 ans et handicapés.\nAnimations pour enfants : jeu des casse-tête \nOrganisation : Allanche Animation\nContact : Hautes Terres Tourisme\nTel : 04 71 20 48 43\nMail : contact@hautesterrestourisme.fr\nSite : www.hautesterrestourisme.fr[/vc_column_text][/vc_column][vc_column width= »1/3″][vc_empty_space][/vc_column][/vc_row]
URL:https://www.lesamisduvieilallanche.fr/evenement/foire-a-la-brocante-et-aux-antiquites-allanche-2025-49e-edition/
LOCATION:Allanche\, Place du Cézallier\, Allanche\, 15160\, France
CATEGORIES:Tourisme
ATTACH;FMTTYPE=image/jpeg:https://www.lesamisduvieilallanche.fr/wp-content/uploads/2025/05/Affiche_brocante_allanche_2025_cantal.jpg
ORGANIZER;CN="Hautes%20Terres%20Tourisme":MAILTO:contact@hautesterrestourisme.fr
END:VEVENT
END:VCALENDAR