BEGIN:VCALENDAR
VERSION:2.0
PRODID:-//Les Amis du Vieil Allanche - ECPv5.16.4//NONSGML v1.0//EN
CALSCALE:GREGORIAN
METHOD:PUBLISH
X-WR-CALNAME:Les Amis du Vieil Allanche
X-ORIGINAL-URL:https://www.lesamisduvieilallanche.fr
X-WR-CALDESC:évènements pour Les Amis du Vieil Allanche
BEGIN:VTIMEZONE
TZID:Europe/Paris
BEGIN:DAYLIGHT
TZOFFSETFROM:+0100
TZOFFSETTO:+0200
TZNAME:CEST
DTSTART:20250330T010000
END:DAYLIGHT
BEGIN:STANDARD
TZOFFSETFROM:+0200
TZOFFSETTO:+0100
TZNAME:CET
DTSTART:20251026T010000
END:STANDARD
END:VTIMEZONE
BEGIN:VEVENT
DTSTART;TZID=Europe/Paris:20250412T150000
DTEND;TZID=Europe/Paris:20250412T190000
DTSTAMP:20260423T212210
CREATED:20250328T174512Z
LAST-MODIFIED:20250328T174512Z
UID:6863-1744470000-1744484400@www.lesamisduvieilallanche.fr
SUMMARY:Journée autour du Beffroi - 12 avril 2025
DESCRIPTION:[vc_row][vc_column][vc_empty_space height= »20px »][vc_column_text css= ».vc_custom_1743183866031{padding-bottom: 20px !important;} »] \nAu programme :\n15H : Présentation par nos amis :  Jean-Bernard BELAND\, Philippe GLAIZE & Yves AUFAUVRE « Allanche : 9 Siècles d’Histoire autour du Beffroi »\n16H : Visite intérieure du Beffroi\n17h : Pot de l’amitié\nToute la journée dès 1Oh : jeu de piste « A la Découverte de la Cité Allanchoise »[/vc_column_text][vc_row_inner][vc_column_inner width= »1/2″][/vc_column_inner][vc_column_inner width= »1/2″][/vc_column_inner][/vc_row_inner][vc_empty_space height= »20px »][/vc_column][/vc_row]
URL:https://www.lesamisduvieilallanche.fr/evenement/journee-autour-du-beffroi-12-avril-2025/
LOCATION:Les Amis du Vieil Allanche\, Place du Marché\, Allanche\, 15160
CATEGORIES:Association,AVA
ATTACH;FMTTYPE=image/jpeg:https://www.lesamisduvieilallanche.fr/wp-content/uploads/2025/03/AVAAffiche-journee-du-Beffroi-2.jpg
ORGANIZER;CN="Les%20amis%20du%20vieil%20Allanche":MAILTO:lesamisduvieilallanche@gmail.com
END:VEVENT
END:VCALENDAR